BEGIN:VCALENDAR
VERSION:2.0
PRODID:-//Pépinière Le jardin de heyrech - ECPv6.15.20//NONSGML v1.0//EN
CALSCALE:GREGORIAN
METHOD:PUBLISH
X-WR-CALNAME:Pépinière Le jardin de heyrech
X-ORIGINAL-URL:https://lejardindeheyrech.fr
X-WR-CALDESC:Évènements pour Pépinière Le jardin de heyrech
REFRESH-INTERVAL;VALUE=DURATION:PT1H
X-Robots-Tag:noindex
X-PUBLISHED-TTL:PT1H
BEGIN:VTIMEZONE
TZID:Europe/Paris
BEGIN:DAYLIGHT
TZOFFSETFROM:+0100
TZOFFSETTO:+0200
TZNAME:CEST
DTSTART:20240331T010000
END:DAYLIGHT
BEGIN:STANDARD
TZOFFSETFROM:+0200
TZOFFSETTO:+0100
TZNAME:CET
DTSTART:20241027T010000
END:STANDARD
BEGIN:DAYLIGHT
TZOFFSETFROM:+0100
TZOFFSETTO:+0200
TZNAME:CEST
DTSTART:20250330T010000
END:DAYLIGHT
BEGIN:STANDARD
TZOFFSETFROM:+0200
TZOFFSETTO:+0100
TZNAME:CET
DTSTART:20251026T010000
END:STANDARD
BEGIN:DAYLIGHT
TZOFFSETFROM:+0100
TZOFFSETTO:+0200
TZNAME:CEST
DTSTART:20260329T010000
END:DAYLIGHT
BEGIN:STANDARD
TZOFFSETFROM:+0200
TZOFFSETTO:+0100
TZNAME:CET
DTSTART:20261025T010000
END:STANDARD
END:VTIMEZONE
BEGIN:VEVENT
DTSTART;TZID=Europe/Paris:20250628T143000
DTEND;TZID=Europe/Paris:20250628T210000
DTSTAMP:20260422T000524
CREATED:20250622T091019Z
LAST-MODIFIED:20250622T091756Z
UID:580-1751121000-1751144400@lejardindeheyrech.fr
SUMMARY:Fête des plantes et du solstice de SARP
DESCRIPTION:Je serai présente à partir de 14h30 avec mes plantes… \nAu programme de cette belle fête : * toute l’après-midi de 14h30 à 21h un marché d’artisanat et de producteur.ices\, des jeux.* 18h : spectacle pour petits & grands enfants « Frédo l’écolo.Spectacle familial interactif\, musical\, poétique avec un zeste d’éco-logique magique.* 20h30 : bal trad avec le groupe Tabayots* 22h30 : mise à feu du brandonRestauration et buvette sur place
URL:https://lejardindeheyrech.fr/evenement/fete-des-plantes-et-du-solstice-de-sarp/
LOCATION:Serpettes et chaudrons\, sarp\, 65310\, France
ATTACH;FMTTYPE=image/jpeg:https://lejardindeheyrech.fr/wp-content/uploads/2025/06/SARP.jpg
END:VEVENT
END:VCALENDAR