BEGIN:VCALENDAR
VERSION:2.0
PRODID:-//Pépinière Le jardin de heyrech - ECPv6.15.20//NONSGML v1.0//EN
CALSCALE:GREGORIAN
METHOD:PUBLISH
X-WR-CALNAME:Pépinière Le jardin de heyrech
X-ORIGINAL-URL:https://lejardindeheyrech.fr
X-WR-CALDESC:Évènements pour Pépinière Le jardin de heyrech
REFRESH-INTERVAL;VALUE=DURATION:PT1H
X-Robots-Tag:noindex
X-PUBLISHED-TTL:PT1H
BEGIN:VTIMEZONE
TZID:Europe/Paris
BEGIN:DAYLIGHT
TZOFFSETFROM:+0100
TZOFFSETTO:+0200
TZNAME:CEST
DTSTART:20250330T010000
END:DAYLIGHT
BEGIN:STANDARD
TZOFFSETFROM:+0200
TZOFFSETTO:+0100
TZNAME:CET
DTSTART:20251026T010000
END:STANDARD
BEGIN:DAYLIGHT
TZOFFSETFROM:+0100
TZOFFSETTO:+0200
TZNAME:CEST
DTSTART:20260329T010000
END:DAYLIGHT
BEGIN:STANDARD
TZOFFSETFROM:+0200
TZOFFSETTO:+0100
TZNAME:CET
DTSTART:20261025T010000
END:STANDARD
BEGIN:DAYLIGHT
TZOFFSETFROM:+0100
TZOFFSETTO:+0200
TZNAME:CEST
DTSTART:20270328T010000
END:DAYLIGHT
BEGIN:STANDARD
TZOFFSETFROM:+0200
TZOFFSETTO:+0100
TZNAME:CET
DTSTART:20271031T010000
END:STANDARD
END:VTIMEZONE
BEGIN:VEVENT
DTSTART;TZID=Europe/Paris:20260329T100000
DTEND;TZID=Europe/Paris:20260329T180000
DTSTAMP:20260419T144503
CREATED:20260302T163730Z
LAST-MODIFIED:20260302T163730Z
UID:650-1774778400-1774807200@lejardindeheyrech.fr
SUMMARY:Faites du printemps à la colo du cagire
DESCRIPTION:Venez nous voir à la colo\, il y a un marché de producteur\, des ateliers\, une balade botanique…
URL:https://lejardindeheyrech.fr/evenement/faites-du-printemps-a-la-colo-du-cagire/
LOCATION:la colo du cagire\, 897 route des cols\, Juzet d’Izaut\, 31160\, France
ATTACH;FMTTYPE=application/pdf:https://lejardindeheyrech.fr/wp-content/uploads/2026/03/faite-2026-HD.pdf
END:VEVENT
END:VCALENDAR