BEGIN:VCALENDAR
VERSION:2.0
PRODID:-//Pépinière Le jardin de heyrech - ECPv6.15.20//NONSGML v1.0//EN
CALSCALE:GREGORIAN
METHOD:PUBLISH
X-WR-CALNAME:Pépinière Le jardin de heyrech
X-ORIGINAL-URL:https://lejardindeheyrech.fr
X-WR-CALDESC:Évènements pour Pépinière Le jardin de heyrech
REFRESH-INTERVAL;VALUE=DURATION:PT1H
X-Robots-Tag:noindex
X-PUBLISHED-TTL:PT1H
BEGIN:VTIMEZONE
TZID:Europe/Paris
BEGIN:DAYLIGHT
TZOFFSETFROM:+0100
TZOFFSETTO:+0200
TZNAME:CEST
DTSTART:20250330T010000
END:DAYLIGHT
BEGIN:STANDARD
TZOFFSETFROM:+0200
TZOFFSETTO:+0100
TZNAME:CET
DTSTART:20251026T010000
END:STANDARD
BEGIN:DAYLIGHT
TZOFFSETFROM:+0100
TZOFFSETTO:+0200
TZNAME:CEST
DTSTART:20260329T010000
END:DAYLIGHT
BEGIN:STANDARD
TZOFFSETFROM:+0200
TZOFFSETTO:+0100
TZNAME:CET
DTSTART:20261025T010000
END:STANDARD
BEGIN:DAYLIGHT
TZOFFSETFROM:+0100
TZOFFSETTO:+0200
TZNAME:CEST
DTSTART:20270328T010000
END:DAYLIGHT
BEGIN:STANDARD
TZOFFSETFROM:+0200
TZOFFSETTO:+0100
TZNAME:CET
DTSTART:20271031T010000
END:STANDARD
END:VTIMEZONE
BEGIN:VEVENT
DTSTART;TZID=Europe/Paris:20260417T150000
DTEND;TZID=Europe/Paris:20260417T190000
DTSTAMP:20260420T115427
CREATED:20260312T161834Z
LAST-MODIFIED:20260312T161834Z
UID:670-1776438000-1776452400@lejardindeheyrech.fr
SUMMARY:vente biocoop du bazert
DESCRIPTION:retrouvez-moi avec mes plantes de 15h à 19h devant la biocoop du bazert
URL:https://lejardindeheyrech.fr/evenement/vente-biocoop-du-bazert/
LOCATION:Biocomminges\, Z. A. paban\, estancarbon\, 31800\, France
ATTACH;FMTTYPE=image/png:https://lejardindeheyrech.fr/wp-content/uploads/2026/03/bazert2026.png
END:VEVENT
END:VCALENDAR